{"text_format":"1","workbook":"xlsx","n_sheets":2,"sheets":["DISCQ","Results"],"not_rendered":{"charts":2,"images":0,"macros":1,"external_links":0,"defined_names":0,"comments":0,"pivot_tables":0},"unopened":[],"bounds":{"document_bytes":16777216,"sheet_cells":100000,"rows_first":2000,"rows_last":500,"rows_between":2000,"halvings":0,"cell_chars":16384,"cell_head_chars":4096},"cells_cut":0,"cells_raw":0,"read":"whole","date_system":"1900"}

{"sheet":"DISCQ","index":0,"n_rows":91,"n_cols":24,"rows_kept":91,"cut":false,"hidden":false,"merged":[[31,3,31,8],[31,11,31,15],[32,3,32,8],[32,11,32,15],[33,3,33,8],[33,11,33,15],[34,11,34,15],[34,3,34,8],[38,3,38,8],[38,11,38,15],[39,3,39,8],[39,11,39,15],[40,3,40,8],[41,3,41,8],[1,1,1,15],[2,2,2,3],[2,4,2,8],[3,4,3,6],[5,13,5,15],[6,1,6,15],[10,11,10,15],[10,3,10,8],[11,3,11,8],[11,11,11,15],[12,3,12,8],[12,11,12,15],[13,3,13,8],[13,11,13,15],[17,3,17,8],[17,11,17,15],[18,3,18,8],[18,11,18,15],[19,3,19,8],[19,11,19,15],[20,11,20,15],[26,11,26,15],[27,11,27,15],[20,3,20,8],[24,3,24,8],[24,11,24,15],[25,3,25,8],[25,11,25,15],[26,3,26,8],[27,3,27,8],[40,11,40,15],[41,11,41,15],[54,11,54,15],[55,11,55,15],[73,3,73,8],[73,11,73,15],[74,3,74,8],[74,11,74,15],[75,3,75,8],[75,11,75,15],[60,3,60,8],[60,11,60,15],[61,3,61,8],[61,11,61,15],[62,11,62,15],[68,11,68,15],[69,11,69,15],[62,3,62,8],[66,3,66,8],[66,11,66,15],[67,3,67,8],[67,11,67,15],[68,3,68,8],[69,3,69,8],[76,11,76,15],[76,3,76,8],[80,3,80,8],[80,11,80,15],[81,3,81,8],[81,11,81,15],[82,3,82,8],[83,3,83,8],[45,3,45,8],[45,11,45,15],[46,3,46,8],[46,11,46,15],[47,3,47,8],[47,11,47,15],[48,11,48,15],[48,3,48,8],[52,3,52,8],[52,11,52,15],[53,3,53,8],[53,11,53,15],[54,3,54,8],[55,3,55,8],[59,3,59,8],[59,11,59,15],[82,11,82,15],[83,11,83,15],[87,3,87,8],[87,11,87,15],[88,3,88,8],[88,11,88,15],[89,3,89,8],[89,11,89,15],[90,3,90,8],[90,11,90,15]]}
[]
[null," D.I.S.C Profile",null,null,null,null,null,null,null,null,null,null,null,null,null,null,null,null,"D","I","S","C","-","Total"]
[null,null,"Name:",null,"Jerome Maquito",null,null,null,null,null,null,null,null,null,null,null,null,"Most",{"$f":"COUNTIF($S10:$S91,\"D\")+COUNTIF($V10:$V91,\"D\")","v":3},{"$f":"COUNTIF($S10:$S91,\"I\")+COUNTIF($V10:$V91,\"I\")","v":1},{"$f":"COUNTIF($S10:$S91,\"S\")+COUNTIF($V10:$V91,\"S\")","v":5},{"$f":"COUNTIF($S10:$S91,\"C\")+COUNTIF($V10:$V91,\"C\")","v":10},{"$f":"COUNTIF($S10:$S91,\"-\")+COUNTIF($V10:$V91,\"-\")","v":5},{"$f":"SUM(S3:W3)","v":24}]
[null,null,null,"Date:","2023-01-17",null,null,null,null,null,null,null,null,null,null,null,null,"Least",{"$f":"COUNTIF($T10:$T91,\"D\")+COUNTIF($W10:$W91,\"D\")","v":9},{"$f":"COUNTIF($T10:$T91,\"I\")+COUNTIF($W10:$W91,\"I\")","v":7},{"$f":"COUNTIF($T10:$T91,\"S\")+COUNTIF($W10:$W91,\"S\")","v":3},{"$f":"COUNTIF($T10:$T91,\"C\")+COUNTIF($W10:$W91,\"C\")","v":3},{"$f":"COUNTIF($T10:$T91,\"-\")+COUNTIF($W10:$W91,\"-\")","v":2},24]
[]
[]
[null,"FOR EACH QUESTION CHOOSE ONE PHRASE MOST LIKE YOU AND ONE PHRASE LEAST LIKE YOU",null,null,null,null,null,null,null,null,null,null,null,null,null,null,null,null,"Most","Least",null,"Most","Least"]
[null,null,null,null,null,null,null,null,null,"Once complete, save the file and then email it back to your coach."]
[]
[null,1,null,null,"Most","C","Least",null,"D",13,null,null,"Most","A","Least","B",null,1,{"$f":"IF(F10=\"a\",\"S\",IF(F10=\"b\",\"I\",IF(F10=\"c\",\"C\",IF(F10=\"d\",\"-\"))))","v":"C"},{"$f":"IF(I10=\"a\",\"S\",IF(I10=\"b\",\"-\",IF(I10=\"c\",\"C\",IF(I10=\"d\",\"D\"))))","v":"D"},13,{"$f":"IF(N10=\"a\",\"D\",IF(N10=\"b\",\"I\",IF(N10=\"c\",\"S\",IF(N10=\"d\",\"-\"))))","v":"D"},{"$f":"IF(P10=\"a\",\"-\",IF(P10=\"b\",\"I\",IF(P10=\"c\",\"S\",IF(P10=\"d\",\"C\"))))","v":"I"}]
[null,null,"A","gentle, kindly ",null,null,null,null,null,null,"A","aggressive, challenger, takes action"]
[null,null,"B","persuasive, convincing",null,null,null,null,null,null,"B","life of the party, entertaining, outgoing"]
[null,null,"C","humble, reserved, modest",null,null,null,null,null,null,"C","easy mark, easily taken advantage of"]
[null,null,"D","original, inventive, individualistic",null,null,null,null,null,null,"D","fearful, afraid"]
[]
[null,2,null,null,"Most","B","Least",null,"C",14,null,null,"Most","D","Least","A",null,2,{"$f":"IF(F16=\"a\",\"I\",IF(F16=\"b\",\"C\",IF(F16=\"c\",\"D\",IF(F16=\"d\",\"-\"))))","v":"C"},{"$f":"IF(I16=\"a\",\"I\",IF(I16=\"b\",\"C\",IF(I16=\"c\",\"D\",IF(I16=\"d\",\"S\"))))","v":"D"},14,{"$f":"IF(N16=\"a\",\"C\",IF(N16=\"b\",\"D\",IF(N16=\"c\",\"I\",IF(N16=\"d\",\"S\"))))","v":"S"},{"$f":"IF(P16=\"a\",\"C\",IF(P16=\"b\",\"-\",IF(P16=\"c\",\"I\",IF(P16=\"d\",\"-\"))))","v":"C"}]
[]
[null,null,"A","attractive, charming, attracts others",null,null,null,null,null,null,"A","cautious, wary, careful"]
[null,null,"B","cooperative, agreeable",null,null,null,null,null,null,"B","determined, decided, unwavering, stand firm"]
[null,null,"C","stubborn, unyielding",null,null,null,null,null,null,"C","convincing, assuring"]
[null,null,"D","sweet, pleasing",null,null,null,null,null,null,"D","good-natured, pleasant"]
[]
[null,3,null,null,"Most","C","Least",null,"B",15,null,null,"Most","C","Least","B",null,3,{"$f":"IF(F23=\"a\",\"-\",IF(F23=\"b\",\"D\",IF(F23=\"c\",\"S\",IF(F23=\"d\",\"I\"))))","v":"S"},{"$f":"IF(I23=\"a\",\"C\",IF(I23=\"b\",\"D\",IF(I23=\"c\",\"-\",IF(I23=\"d\",\"I\"))))","v":"D"},15,{"$f":"IF(N23=\"a\",\"S\",IF(N23=\"b\",\"-\",IF(N23=\"c\",\"C\",IF(N23=\"d\",\"-\"))))","v":"C"},{"$f":"IF(P23=\"a\",\"-\",IF(P23=\"b\",\"-\",IF(P23=\"c\",\"C\",IF(P23=\"d\",\"D\"))))","v":"-"}]
[]
[null,null,"A","easily led, follower",null,null,null,null,null,null,"A","willing, go along with"]
[null,null,"B","bold, daring",null,null,null,null,null,null,"B","eager, anxious"]
[null,null,"C","loyal, faithful, devoted",null,null,null,null,null,null,"C","agreeable, consenting"]
[null,null,"D","charming, delightful",null,null,null,null,null,null,"D","high-spirited, lively, enthusiastic"]
[]
[null,4,null,null,"Most","A","Least",null,"B",16,null,null,"Most","B","Least","B",null,4,{"$f":"IF(F30=\"a\",\"C\",IF(F30=\"b\",\"S\",IF(F30=\"c\",\"-\",IF(F30=\"d\",\"I\"))))","v":"C"},{"$f":"IF(I30=\"a\",\"-\",IF(I30=\"b\",\"S\",IF(I30=\"c\",\"D\",IF(I30=\"d\",\"I\"))))","v":"S"},16,{"$f":"IF(N30=\"a\",\"I\",IF(N30=\"b\",\"-\",IF(N30=\"c\",\"-\",IF(N30=\"d\",\"D\"))))","v":"-"},{"$f":"IF(P30=\"a\",\"-\",IF(P30=\"b\",\"S\",IF(P30=\"c\",\"C\",IF(P30=\"d\",\"D\"))))","v":"S"}]
[]
[null,null,"A","open minded, receptive",null,null,null,null,null,null,"A","confident, believes in self, assured"]
[null,null,"B","obliging, helpful",null,null,null,null,null,null,"B","sympathetic, compassionate, understanding"]
[null,null,"C","will power, strong willed",null,null,null,null,null,null,"C","tolerant"]
[null,null,"D","cheerful, joyful",null,null,null,null,null,null,"D","assertive, aggressive"]
[]
[null,5,null,null,"Most","D","Least",null,"A",17,null,null,"Most","A","Least","C",null,5,{"$f":"IF(F37=\"a\",\"-\",IF(F37=\"b\",\"C\",IF(F37=\"c\",\"-\",IF(F37=\"d\",\"S\"))))","v":"S"},{"$f":"IF(I37=\"a\",\"I\",IF(I37=\"b\",\"C\",IF(I37=\"c\",\"D\",IF(I37=\"d\",\"S\"))))","v":"I"},17,{"$f":"IF(N37=\"a\",\"C\",IF(N37=\"b\",\"S\",IF(N37=\"c\",\"-\",IF(N37=\"d\",\"D\"))))","v":"C"},{"$f":"IF(P37=\"a\",\"-\",IF(P37=\"b\",\"S\",IF(P37=\"c\",\"I\",IF(P37=\"d\",\"D\"))))","v":"I"}]
[]
[null,null,"A","jovial, joking",null,null,null,null,null,null,"A","well-disciplined, self controlled"]
[null,null,"B","precise, exact",null,null,null,null,null,null,"B","generous, willing to share"]
[null,null,"C","nervy, gutsy, brazen",null,null,null,null,null,null,"C","animated, uses gestures for expression"]
[null,null,"D","even-tempered, calm, not easily excited",null,null,null,null,null,null,"D","persistent, unrelenting, refuses to quit"]
[]
[null,6,null,null,"Most","A","Least",null,"C",18,null,null,"Most","B","Least","C",null,6,{"$f":"IF(F44=\"a\",\"D\",IF(F44=\"b\",\"S\",IF(F44=\"c\",\"-\",IF(F44=\"d\",\"-\"))))","v":"D"},{"$f":"IF(I44=\"a\",\"D\",IF(I44=\"b\",\"S\",IF(I44=\"c\",\"I\",IF(I44=\"d\",\"C\"))))","v":"I"},18,{"$f":"IF(N44=\"a\",\"I\",IF(N44=\"b\",\"S\",IF(N44=\"c\",\"-\",IF(N44=\"d\",\"D\"))))","v":"S"},{"$f":"IF(P44=\"a\",\"-\",IF(P44=\"b\",\"-\",IF(P44=\"c\",\"C\",IF(P44=\"d\",\"D\"))))","v":"C"}]
[]
[null,null,"A","competitive, seeking to win ",null,null,null,null,null,null,"A","admirable, deserving of praise"]
[null,null,"B","considerate, caring, thoughtful",null,null,null,null,null,null,"B","kind, willing to give or help"]
[null,null,"C","outgoing, fun loving, socially striving",null,null,null,null,null,null,"C","resigned, gives in"]
[null,null,"D","harmonious, agreeable",null,null,null,null,null,null,"D","force of character, powerful"]
[]
[null,7,null,null,"Most","B","Least",null,"A",19,null,null,"Most","A","Least","B",null,7,{"$f":"IF(F51=\"a\",\"-\",IF(F51=\"b\",\"S\",IF(F51=\"c\",\"D\",IF(F51=\"d\",\"I\"))))","v":"S"},{"$f":"IF(I51=\"a\",\"C\",IF(I51=\"b\",\"-\",IF(I51=\"c\",\"D\",IF(I51=\"d\",\"I\"))))","v":"C"},19,{"$f":"IF(N51=\"a\",\"C\",IF(N51=\"b\",\"D\",IF(N51=\"c\",\"I\",IF(N51=\"d\",\"S\"))))","v":"C"},{"$f":"IF(P51=\"a\",\"-\",IF(P51=\"b\",\"D\",IF(P51=\"c\",\"I\",IF(P51=\"d\",\"S\"))))","v":"D"}]
[]
[null,null,"A","fussy, hard to please",null,null,null,null,null,null,"A","respectful, shows respect"]
[null,null,"B","obedient, will do as told, dutiful",null,null,null,null,null,null,"B","pioneering, exploring, enterprising"]
[null,null,"C","unconquerable, determined",null,null,null,null,null,null,"C","optimistic, positive view"]
[null,null,"D","playful, frisky, full of fun",null,null,null,null,null,null,"D","accommodating, willing to please, ready to help"]
[]
[null,8,null,null,"Most","D","Least",null,"B",20,null,null,"Most","B","Least","A",null,8,{"$f":"IF(F58=\"a\",\"D\",IF(F58=\"b\",\"I\",IF(F58=\"c\",\"-\",IF(F58=\"d\",\"-\"))))","v":"-"},{"$f":"IF(I58=\"a\",\"-\",IF(I58=\"b\",\"-\",IF(I58=\"c\",\"S\",IF(I58=\"d\",\"C\"))))","v":"-"},20,{"$f":"IF(N58=\"a\",\"D\",IF(N58=\"b\",\"C\",IF(N58=\"c\",\"-\",IF(N58=\"d\",\"I\"))))","v":"C"},{"$f":"IF(P58=\"a\",\"D\",IF(P58=\"b\",\"-\",IF(P58=\"c\",\"S\",IF(P58=\"d\",\"I\"))))","v":"D"}]
[]
[null,null,"A","brave, unafraid, courageous",null,null,null,null,null,null,"A","argumentative, confronting"]
[null,null,"B","inspiring, stimulating, motivating",null,null,null,null,null,null,"B","adaptable, flexible"]
[null,null,"C","submissive, yielding, gives in",null,null,null,null,null,null,"C","nonchalant, casually indifferent, lack of concern"]
[null,null,"D","timid, shy, quiet",null,null,null,null,null,null,"D","light hearted, carefree"]
[]
[null,9,null,null,"Most","C","Least",null,"A",21,null,null,"Most","B","Least","C",null,9,{"$f":"IF(F65=\"a\",\"I\",IF(F65=\"b\",\"S\",IF(F65=\"c\",\"D\",IF(F65=\"d\",\"C\"))))","v":"D"},{"$f":"IF(I65=\"a\",\"I\",IF(I65=\"b\",\"S\",IF(I65=\"c\",\"D\",IF(I65=\"d\",\"C\"))))","v":"I"},21,{"$f":"IF(N65=\"a\",\"S\",IF(N65=\"b\",\"-\",IF(N65=\"c\",\"D\",IF(N65=\"d\",\"C\"))))","v":"-"},{"$f":"IF(P65=\"a\",\"I\",IF(P65=\"b\",\"S\",IF(P65=\"c\",\"D\",IF(P65=\"d\",\"C\"))))","v":"D"}]
[]
[null,null,"A","sociable, enjoys the company of others",null,null,null,null,null,null,"A","trusting, faith in others"]
[null,null,"B","patient, steady, tolerant",null,null,null,null,null,null,"B","contented, satisfied"]
[null,null,"C","self-reliant, independent",null,null,null,null,null,null,"C","positive, admitting no doubt"]
[null,null,"D","soft-spoken, mild, reserved",null,null,null,null,null,null,"D","peaceful, tranquil"]
[]
[null,10,null,null,"Most","B","Least",null,"A",22,null,null,"Most","B","Least","D",null,10,{"$f":"IF(F72=\"a\",\"D\",IF(F72=\"b\",\"C\",IF(F72=\"c\",\"-\",IF(F72=\"d\",\"S\"))))","v":"C"},{"$f":"IF(I72=\"a\",\"D\",IF(I72=\"b\",\"-\",IF(I72=\"c\",\"I\",IF(I72=\"d\",\"S\"))))","v":"D"},22,{"$f":"IF(N72=\"a\",\"I\",IF(N72=\"b\",\"-\",IF(N72=\"c\",\"D\",IF(N72=\"d\",\"S\"))))","v":"-"},{"$f":"IF(P72=\"a\",\"I\",IF(P72=\"b\",\"C\",IF(P72=\"c\",\"D\",IF(P72=\"d\",\"S\"))))","v":"S"}]
[]
[null,null,"A","adventurous, willing to take chances",null,null,null,null,null,null,"A","good mixer, likes being with others"]
[null,null,"B","receptive, open to suggestions",null,null,null,null,null,null,"B","cultured, educated, knowledgeable"]
[null,null,"C","cordial, warm, friendly",null,null,null,null,null,null,"C","vigorous, energetic"]
[null,null,"D","moderate, avoids extremes",null,null,null,null,null,null,"D","lenient, not overly strict, tolerant of others actions"]
[]
[null,11,null,null,"Most","C","Least",null,"A",23,null,null,"Most","A","Least","C",null,11,{"$f":"IF(F79=\"a\",\"I\",IF(F79=\"b\",\"S\",IF(F79=\"c\",\"-\",IF(F79=\"d\",\"D\"))))","v":"-"},{"$f":"IF(I79=\"a\",\"I\",IF(I79=\"b\",\"S\",IF(I79=\"c\",\"-\",IF(I79=\"d\",\"D\"))))","v":"I"},23,{"$f":"IF(N79=\"a\",\"I\",IF(N79=\"b\",\"C\",IF(N79=\"c\",\"D\",IF(N79=\"d\",\"-\"))))","v":"I"},{"$f":"IF(P79=\"a\",\"I\",IF(P79=\"b\",\"-\",IF(P79=\"c\",\"D\",IF(P79=\"d\",\"S\"))))","v":"D"}]
[]
[null,null,"A","talkative, chatty",null,null,null,null,null,null,"A","companionable, easy to be with"]
[null,null,"B","controlled, restrained",null,null,null,null,null,null,"B","accurate, correct"]
[null,null,"C","conventional, doing it in the usual way, customary",null,null,null,null,null,null,"C","outspoken, speaks freely and boldly"]
[null,null,"D","decisive, certain, firm in making a decision",null,null,null,null,null,null,"D","restrained, reserved, controlled"]
[]
[null,12,null,null,"Most","C","Least",null,"B",24,null,null,"Most","D","Least","C",null,12,{"$f":"IF(F86=\"a\",\"-\",IF(F86=\"b\",\"D\",IF(F86=\"c\",\"C\",IF(F86=\"d\",\"S\"))))","v":"C"},{"$f":"IF(I86=\"a\",\"I\",IF(I86=\"b\",\"D\",IF(I86=\"c\",\"-\",IF(I86=\"d\",\"S\"))))","v":"D"},24,{"$f":"IF(N86=\"a\",\"D\",IF(N86=\"b\",\"S\",IF(N86=\"c\",\"I\",IF(N86=\"d\",\"C\"))))","v":"C"},{"$f":"IF(P86=\"a\",\"D\",IF(P86=\"b\",\"S\",IF(P86=\"c\",\"I\",IF(P86=\"d\",\"C\"))))","v":"I"}]
[]
[null,null,"A","polished, smooth talker",null,null,null,null,null,null,"A","restless, unable to rest or relax"]
[null,null,"B","daring, risk taker",null,null,null,null,null,null,"B","neighbourly, friendly"]
[null,null,"C","diplomatic, tactful to people",null,null,null,null,null,null,"C","popular, liked by many or most people"]
[null,null,"D","satisfied, content, pleased",null,null,null,null,null,null,"D","orderly, neat, organized"]

{"sheet":"Results","index":1,"n_rows":76,"n_cols":33,"rows_kept":76,"cut":false,"hidden":false,"merged":[[0,2,0,5],[1,2,1,3],[16,2,16,5],[16,6,16,9]]}
[null,"Name",{"$f":"DISCQ!E3","v":"Jerome Maquito"}]
[null,"Date",{"$f":"DISCQ!E4","v":"2023-01-17"},null,null,null,"DISC"]
[null,null,null,"Most","Least",null,"Least"]
[null,null,1,{"$f":"DISCQ!S10","v":"C"},{"$f":"DISCQ!T10","v":"D"},13,{"$f":"DISCQ!W10","v":"I"}]
[null,null,2,{"$f":"DISCQ!S16","v":"C"},{"$f":"DISCQ!T16","v":"D"},14,{"$f":"DISCQ!W16","v":"C"}]
[null,null,3,{"$f":"DISCQ!S23","v":"S"},{"$f":"DISCQ!T23","v":"D"},15,{"$f":"DISCQ!W23","v":"-"}]
[null,null,4,{"$f":"DISCQ!S30","v":"C"},{"$f":"DISCQ!T30","v":"S"},16,{"$f":"DISCQ!W30","v":"S"}]
[null,null,5,{"$f":"DISCQ!S37","v":"S"},{"$f":"DISCQ!T37","v":"I"},17,{"$f":"DISCQ!W37","v":"I"}]
[null,null,6,{"$f":"DISCQ!S44","v":"D"},{"$f":"DISCQ!T44","v":"I"},18,{"$f":"DISCQ!W44","v":"C"}]
[null,null,7,{"$f":"DISCQ!S51","v":"S"},{"$f":"DISCQ!T51","v":"C"},19,{"$f":"DISCQ!W51","v":"D"}]
[null,null,8,{"$f":"DISCQ!S58","v":"-"},{"$f":"DISCQ!T58","v":"-"},20,{"$f":"DISCQ!W58","v":"D"},null,null,null,null,null,"MOST","Upper2",{"$f":"IF(E43=14,0.85,IF(E43=15,0.92,IF(E43=16,0.96,IF(E43>=17,1))))","v":false},null,{"$f":"IF(G43=10,0.85,IF(G43=11,0.89,IF(G43=12,0.98,IF(G43>12,1))))","v":false}]
[null,null,9,{"$f":"DISCQ!S65","v":"D"},{"$f":"DISCQ!T65","v":"I"},21,{"$f":"DISCQ!W65","v":"D"},null,null,null,null,null,null,"Upper",{"$f":"IF(E43=7,0.52,IF(E43=8,0.6,IF(E43=9,0.65,IF(E43=10,0.72,IF(E43=11,0.75,IF(E43=12,0.79,IF(E43=13,0.82)))))))","v":false},{"$f":"IF(F43=6,0.73,IF(F43=7,0.83,IF(F43=8,0.87,IF(F43=9,0.91,IF(F43=10,0.98,IF(F43>10,1))))))","v":false},{"$f":"IF(G43=5,0.55,IF(G43=6,0.6,IF(G43=7,0.65,IF(G43=8,0.73,IF(G43=9,0.79)))))","v":0.55000000000000004},{"$f":"IF(H43=7,0.84,IF(H43=8,0.89,IF(H43=9,0.97,IF(H43>9,1))))","v":1}]
[null,null,10,{"$f":"DISCQ!S72","v":"C"},{"$f":"DISCQ!T72","v":"D"},22,{"$f":"DISCQ!W72","v":"S"},null,null,null,null,null,null,"Lower",{"$f":"IF(E43=0,0,IF(E43=1,0.15,IF(E43=2,0.24,IF(E43=3,0.34,IF(E43=4,0.39,IF(E43=5,0.43,IF(E43=6,0.49)))))))","v":0.34},{"$f":"IF(F43=0,0.07,IF(F43=1,0.2,IF(F43=2,0.33,IF(F43=3,0.43,IF(F43=4,0.56,IF(F43=5,0.69))))))","v":0.2},{"$f":"IF(G43=0,0.1,IF(G43=1,0.21,IF(G43=2,0.3,IF(G43=3,0.39,IF(G43=4,0.46)))))","v":false},{"$f":"IF(H43=0,0.01,IF(H43=1,0.18,IF(H43=2,0.29,IF(H43=3,0.4,IF(H43=4,0.54,IF(H43=5,0.66,IF(H43=6,0.72)))))))","v":false}]
[null,null,11,{"$f":"DISCQ!S79","v":"-"},{"$f":"DISCQ!T79","v":"I"},23,{"$f":"DISCQ!W79","v":"D"},null,null,null,null,null,null,"Final",{"$f":"IF(E43<=6,O13,IF(E43<=13,O12,IF(E43>13,O11)))","v":0.34},{"$f":"IF(F43<=5,P13,IF(F43>5,P12))","v":0.2},{"$f":"IF(G43<=4,Q13,IF(G43<=9,Q12,IF(G43>9,Q11)))","v":0.55000000000000004},{"$f":"IF(H43<=6,R13,IF(H43>6,R12))","v":1}]
[null,null,12,{"$f":"DISCQ!S86","v":"C"},{"$f":"DISCQ!T86","v":"D"},24,{"$f":"DISCQ!W86","v":"I"}]
[null,null,null,null,null,null,null,null,null,null,null,null,"LEASE","Upper2",{"$f":"IF(E44=14,0.11,IF(E44=15,0.09,IF(E44=16,0.05,IF(E44>=16,0.01))))","v":false},null,{"$f":"IF(G44=10,0.23,IF(G44=11,0.15,IF(G44=12,0.09,IF(G44=13,0.05,IF(G44>13,0)))))","v":false},{"$f":"IF(H44>13,0.01)","v":false}]
[null,null,null,null,null,null,null,null,null,null,null,null,null,"Upper",{"$f":"IF(E44=7,0.42,IF(E44=8,0.4,IF(E44=9,0.31,IF(E44=10,0.29,IF(E44=11,0.26,IF(E44=12,0.21,IF(E44=13,0.15)))))))","v":0.31},{"$f":"IF(F44=6,0.39,IF(F44=7,0.29,IF(F44=8,0.21,IF(F44=9,0.15,IF(F44=10,0.1,IF(F44=11,0.7,IF(F44>11,0)))))))","v":0.28999999999999998},{"$f":"IF(G44=5,0.6,IF(G44=6,0.52,IF(G44=7,0.42,IF(G44=8,0.38,IF(G44=9,0.3)))))","v":false},{"$f":"IF(H44=7,0.48,IF(H44=8,0.39,IF(H44=9,0.33,IF(H44=10,0.22,IF(H44=11,0.14,IF(H44=12,0.09,IF(H44=13,0.05)))))))","v":false}]
[null,null,null,null,null,null,null,null,null,null,null,null,null,"Lower",{"$f":"IF(E44=0,1,IF(E44=1,0.98,IF(E44=2,0.75,IF(E44=3,0.68,IF(E44=4,0.6,IF(E44=5,0.53,IF(E44=6,0.48)))))))","v":false},{"$f":"IF(F44=0,1,IF(F44=1,0.85,IF(F44=2,0.75,IF(F44=3,0.68,IF(F44=4,0.55,IF(F44=5,0.49))))))","v":false},{"$f":"IF(G44=0,1,IF(G44=1,0.97,IF(G44=2,0.85,IF(G44=3,0.76,IF(G44=4,0.69)))))","v":0.76},{"$f":"IF(H44=0,1,IF(H44=1,0.96,IF(H44=2,0.83,IF(H44=3,0.74,IF(H44=4,0.65,IF(H44=5,0.58,IF(H44=6,0.51)))))))","v":0.74}]
[null,null,null,null,null,null,null,null,null,null,null,null,null,"Final",{"$f":"IF(E44<=6,O18,IF(E44<=13,O17,IF(E44>13,O16)))","v":0.31},{"$f":"IF(F44<=5,P18,IF(F44>5,P17))","v":0.28999999999999998},{"$f":"IF(G44<5,Q18,IF(G44<10,Q17,IF(G44>9,Q16)))","v":0.76},{"$f":"IF(H44<7,R18,IF(H44<13,R17,IF(H44>13,R16)))","v":0.74}]
[]
[]
[]
[]
[]
[]
[]
[]
[]
[]
[]
[]
[]
[]
[]
[]
[]
[]
[]
[]
[]
[]
[null,null,null,null,"D","I","S","C","-","Total"]
[null,null,null,"Most",{"$f":"DISCQ!S3","v":3},{"$f":"DISCQ!T3","v":1},{"$f":"DISCQ!U3","v":5},{"$f":"DISCQ!V3","v":10},{"$f":"DISCQ!W3","v":5},{"$f":"SUM(E43:I43)","v":24},null,null,null,null,null,null,null,null,null,null,null,null,null,null,null,null,null,"D","I","S","C"]
[null,null,null,"Least",{"$f":"DISCQ!S4","v":9},{"$f":"DISCQ!T4","v":7},{"$f":"DISCQ!U4","v":3},{"$f":"DISCQ!V4","v":3},{"$f":"DISCQ!W4","v":2},24,null,null,null,null,null,null,null,null,null,null,null,null,null,null,null,null,"Most",{"$f":"O14","v":0.34},0.2,0.55000000000000004,1]
[]
[null,null,null,null,null,null,null,null,null,null,null,null,null,null,null,null,null,null,null,null,null,null,null,null,null,null,null,"D","I","S","C"]
[null,null,null,null,null,null,null,null,null,null,null,null,null,null,null,null,null,null,null,null,null,null,null,null,null,null,"Least",{"$f":"O19","v":0.31},0.28999999999999998,0.76,0.74]
[]
[null,null,"NOTE: Please Save this file and return via email, for an explanation",null,null,null,null,null,null,null,null,null,null,null,null,null,null,null,null,null,null,null,null,null,null,null,null,"I","ii","iii"]
[]
[null,null,null,null,null,null,null,null,null,null,null,null,null,null,null,null,null,null,null,null,null,null,null,null,null,null,1,{"$f":"IF(#REF!=AE51,1)","v":{"$error":"#REF!"}},{"$error":"#REF!"},{"$error":"#REF!"},"A","B","C"]
[null,null,null,null,null,null,null,null,null,null,null,null,null,null,null,null,null,null,null,null,null,null,null,null,null,null,2,{"$f":"IF(#REF!=AE52,1)","v":{"$error":"#REF!"}},{"$error":"#REF!"},{"$error":"#REF!"},"B","C","A"]
[null,null,null,null,null,null,null,null,null,null,null,null,null,null,null,null,null,null,null,null,null,null,null,null,null,null,3,{"$f":"IF(#REF!=AE53,1)","v":{"$error":"#REF!"}},{"$error":"#REF!"},{"$error":"#REF!"},"C","A","B"]
[null,null,null,null,null,null,null,null,null,null,null,null,null,null,null,null,null,null,null,null,null,null,null,null,null,null,4,{"$f":"IF(#REF!=AE54,1)","v":{"$error":"#REF!"}},{"$error":"#REF!"},{"$error":"#REF!"},"A","C","B"]
[null,null,null,null,null,null,null,null,null,null,null,null,null,null,null,null,null,null,null,null,null,null,null,null,null,null,5,{"$f":"IF(#REF!=AE55,1)","v":{"$error":"#REF!"}},{"$error":"#REF!"},{"$error":"#REF!"},"B","A","C"]
[null,null,null,null,null,null,null,null,null,null,null,null,null,null,null,null,null,null,null,null,null,null,null,null,null,null,6,{"$f":"IF(#REF!=AE56,1)","v":{"$error":"#REF!"}},{"$error":"#REF!"},{"$error":"#REF!"},"B","A","C"]
[null,null,null,null,null,null,null,null,null,null,null,null,null,null,null,null,null,null,null,null,null,null,null,null,null,null,7,{"$f":"IF(#REF!=AE57,1)","v":{"$error":"#REF!"}},{"$error":"#REF!"},{"$error":"#REF!"},"C","B","A"]
[null,null,null,null,null,null,null,null,null,null,null,null,null,null,null,null,null,null,null,null,null,null,null,null,null,null,8,{"$f":"IF(#REF!=AE58,1)","v":{"$error":"#REF!"}},{"$error":"#REF!"},{"$error":"#REF!"},"A","C","B"]
[null,null,null,null,null,null,null,null,null,null,null,null,null,null,null,null,null,null,null,null,null,null,null,null,null,null,9,{"$f":"IF(#REF!=AE59,1)","v":{"$error":"#REF!"}},{"$error":"#REF!"},{"$error":"#REF!"},"B","A","C"]
[null,null,null,null,null,null,null,null,null,null,null,null,null,null,null,null,null,null,null,null,null,null,null,null,null,null,10,{"$f":"IF(#REF!=AE60,1)","v":{"$error":"#REF!"}},{"$error":"#REF!"},{"$error":"#REF!"},"A","C","B"]
[null,null,null,null,null,null,null,null,null,null,null,null,null,null,null,null,null,null,null,null,null,null,null,null,null,null,11,{"$f":"IF(#REF!=AE61,1)","v":{"$error":"#REF!"}},{"$error":"#REF!"},{"$error":"#REF!"},"B","A","C"]
[null,null,null,null,null,null,null,null,null,null,null,null,null,null,null,null,null,null,null,null,null,null,null,null,null,null,12,{"$f":"IF(#REF!=AE62,1)","v":{"$error":"#REF!"}},{"$error":"#REF!"},{"$error":"#REF!"},"A","C","B"]
[null,null,null,null,null,null,null,null,null,null,null,null,null,null,null,null,null,null,null,null,null,null,null,null,null,null,13,{"$f":"IF(#REF!=AE63,1)","v":{"$error":"#REF!"}},{"$error":"#REF!"},{"$error":"#REF!"},"C","B","A"]
[null,null,null,null,null,null,null,null,null,null,null,null,null,null,null,null,null,null,null,null,null,null,null,null,null,null,14,{"$f":"IF(#REF!=AE64,1)","v":{"$error":"#REF!"}},{"$error":"#REF!"},{"$error":"#REF!"},"B","A","C"]
[null,null,null,null,null,null,null,null,null,null,null,null,null,null,null,null,null,null,null,null,null,null,null,null,null,null,15,{"$f":"IF(#REF!=AE65,1)","v":{"$error":"#REF!"}},{"$error":"#REF!"},{"$error":"#REF!"},"A","C","B"]
[null,null,null,null,null,null,null,null,null,null,null,null,null,null,null,null,null,null,null,null,null,null,null,null,null,null,16,{"$f":"IF(#REF!=AE66,1)","v":{"$error":"#REF!"}},{"$error":"#REF!"},{"$error":"#REF!"},"B","A","C"]
[null,null,null,null,null,null,null,null,null,null,null,null,null,null,null,null,null,null,null,null,null,null,null,null,null,null,17,{"$f":"IF(#REF!=AE67,1)","v":{"$error":"#REF!"}},{"$error":"#REF!"},{"$error":"#REF!"},"A","C","B"]
[null,null,null,null,null,null,null,null,null,null,null,null,null,null,null,null,null,null,null,null,null,null,null,null,null,null,18,{"$f":"IF(#REF!=AE68,1)","v":{"$error":"#REF!"}},{"$error":"#REF!"},{"$error":"#REF!"},"C","B","A"]
[null,null,null,null,null,null,null,null,null,null,null,null,null,null,null,null,null,null,null,null,null,null,null,null,null,null,19,{"$f":"IF(#REF!=AE69,1)","v":{"$error":"#REF!"}},{"$error":"#REF!"},{"$error":"#REF!"},"B","A","C"]
[null,null,null,null,null,null,null,null,null,null,null,null,null,null,null,null,null,null,null,null,null,null,null,null,null,null,20,{"$f":"IF(#REF!=AE70,1)","v":{"$error":"#REF!"}},{"$error":"#REF!"},{"$error":"#REF!"},"C","B","A"]
[null,null,null,null,null,null,null,null,null,null,null,null,null,null,null,null,null,null,null,null,null,null,null,null,null,null,21,{"$f":"IF(#REF!=AE71,1)","v":{"$error":"#REF!"}},{"$error":"#REF!"},{"$error":"#REF!"},"A","C","B"]
[null,null,null,null,null,null,null,null,null,null,null,null,null,null,null,null,null,null,null,null,null,null,null,null,null,null,22,{"$f":"IF(#REF!=AE72,1)","v":{"$error":"#REF!"}},{"$error":"#REF!"},{"$error":"#REF!"},"C","B","A"]
[null,null,null,null,null,null,null,null,null,null,null,null,null,null,null,null,null,null,null,null,null,null,null,null,null,null,23,{"$f":"IF(#REF!=AE73,1)","v":{"$error":"#REF!"}},{"$error":"#REF!"},{"$error":"#REF!"},"C","B","A"]
[null,null,null,null,null,null,null,null,null,null,null,null,null,null,null,null,null,null,null,null,null,null,null,null,null,null,24,{"$f":"IF(#REF!=AE74,1)","v":{"$error":"#REF!"}},{"$error":"#REF!"},{"$error":"#REF!"},"A","C","B"]
[null,null,null,null,null,null,null,null,null,null,null,null,null,null,null,null,null,null,null,null,null,null,null,null,null,null,25,{"$f":"IF(#REF!=AE75,1)","v":{"$error":"#REF!"}},{"$error":"#REF!"},{"$error":"#REF!"},"B","A","C"]
[null,null,null,null,null,null,null,null,null,null,null,null,null,null,null,null,null,null,null,null,null,null,null,null,null,null,null,{"$f":"SUM(AB51:AB75)","v":{"$error":"#REF!"}},{"$error":"#REF!"},{"$error":"#REF!"}]